BEGIN:VCALENDAR
VERSION:2.0
BEGIN:VEVENT
URL:https://www.dailyinfo.co.uk/events/285205/pat-suet-bik-hui-and-the-three-perfections
DTSTART;VALUE=DATE:20260421
DESCRIPTION:Pat Suet-Bik Hui and the Three Perfections\n\n\nShowcasing work by this US-based Hong Kong artist featuring poetry, calligraphy, and painting 10am-5pm Free
SUMMARY;LANGUAGE=en-gb:Pat Suet-Bik Hui and the Three Perfections
LOCATION:Ashmolean Museum, Beaumont Street, Oxford OX1 2PH
END:VEVENT
END:VCALENDAR
