BEGIN:VCALENDAR
VERSION:2.0
BEGIN:VEVENT
URL:https://www.dailyinfo.co.uk/events/287767/european-folk-dance-for-fun
DTSTART;VALUE=DATE:20260421
DESCRIPTION:European Folk Dance for Fun\n\n\nLearn and enjoy European Folk dances in a small friendly group. No partner required. Soft shoes best 8-10pm £5
SUMMARY;LANGUAGE=en-gb:European Folk Dance for Fun
LOCATION:St Margaret's Institute, 30 Polstead Road, Oxford OX2 6TN
END:VEVENT
END:VCALENDAR
