BEGIN:VCALENDAR
VERSION:2.0
BEGIN:VEVENT
URL:https://www.dailyinfo.co.uk/events/290890/develop-your-drawing-skills-workshops
DTSTART;VALUE=DATE:20260421
DESCRIPTION:Develop your Drawing Skills Workshops\n\n\nBalancing classical techniques with more expressive, contemporary methods, Helen Edward's course of hands-on workshops will offer you the opportunity to refine your drawing technical ability, while exploring new ways of seeing and creating 10.30am - 1pm £200 for the series of four workshops
SUMMARY;LANGUAGE=en-gb:Develop your Drawing Skills Workshops
LOCATION:Ashmolean Museum, Beaumont Street, Oxford OX1 2PH
END:VEVENT
END:VCALENDAR
