BEGIN:VCALENDAR
VERSION:2.0
BEGIN:VEVENT
URL:https://www.dailyinfo.co.uk/events/291929/roman-oxfordshire-coins-display
DTSTART;VALUE=DATE:20260421
DESCRIPTION:Roman Oxfordshire Coins Display\n\n\nThis display will showcase a selection of Roman coins in the Ashmolean collection that were found in Oxfordshire and tell the story of the region from the Roman conquest in 43 CE to the end of Roman Britain, around 410 CE 10am - 5pm free
SUMMARY;LANGUAGE=en-gb:Roman Oxfordshire Coins Display
LOCATION:Ashmolean Museum, Beaumont Street, Oxford OX1 2PH
END:VEVENT
END:VCALENDAR
