BEGIN:VCALENDAR
VERSION:2.0
BEGIN:VEVENT
URL:https://www.dailyinfo.co.uk/film/22333/the-drama?event=293438
DTSTART;VALUE=DATE:20260421
DESCRIPTION:The Drama [15]\n\n\nA happily engaged couple get put to the test when an unexpected revelation sends their wedding week off the rails. 12.20, 3.20, 6.20, 9.00pm
SUMMARY;LANGUAGE=en-gb:The Drama [15]
LOCATION:Curzon Oxford, Westgate Oxford, Castle St, Oxford OX1 1NZ
END:VEVENT
END:VCALENDAR
