BEGIN:VCALENDAR
VERSION:2.0
BEGIN:VEVENT
URL:https://www.dailyinfo.co.uk/film/22302/the-super-mario-galaxy-movie?event=293443
DTSTART;VALUE=DATE:20260421
DESCRIPTION:Super Mario Galaxy Movie [PG]\n\n\nA second Super Mario animated film. 11.45am, 4.00, 6.00pm
SUMMARY;LANGUAGE=en-gb:Super Mario Galaxy Movie [PG]
LOCATION:Curzon Oxford, Westgate Oxford, Castle St, Oxford OX1 1NZ
END:VEVENT
END:VCALENDAR
