BEGIN:VCALENDAR
VERSION:2.0
BEGIN:VEVENT
URL:https://www.dailyinfo.co.uk/film/22353/father-mother-sister-brother?event=293444
DTSTART;VALUE=DATE:20260421
DESCRIPTION:Father Mother Sister Brother [15]\n\n\nEstranged siblings reunite after years apart, forced to confront unresolved tensions. 2.30pm
SUMMARY;LANGUAGE=en-gb:Father Mother Sister Brother [15]
LOCATION:Curzon Oxford, Westgate Oxford, Castle St, Oxford OX1 1NZ
END:VEVENT
END:VCALENDAR
