BEGIN:VCALENDAR
VERSION:2.0
BEGIN:VEVENT
URL:https://www.dailyinfo.co.uk/film/22259/project-hail-mary?event=293445
DTSTART;VALUE=DATE:20260421
DESCRIPTION:Project Hail Mary [12A]\n\n\nA science teacher alone on a spaceship light-years from Earth uncovers a mission to stop a mysterious substance killing the sun, and save Earth. 12.40 (subtitled), 3.00, 8.00pm
SUMMARY;LANGUAGE=en-gb:Project Hail Mary [12A]
LOCATION:Curzon Oxford, Westgate Oxford, Castle St, Oxford OX1 1NZ
END:VEVENT
END:VCALENDAR
