BEGIN:VCALENDAR
VERSION:2.0
BEGIN:VEVENT
URL:https://www.dailyinfo.co.uk/film/22306/the-magic-faraway-tree?event=293446
DTSTART;VALUE=DATE:20260421
DESCRIPTION:The Magic Faraway Tree [U]\n\n\nA modern family relocates to the countryside where the children discover a magical tree with eccentric residents. 5.20pm
SUMMARY;LANGUAGE=en-gb:The Magic Faraway Tree [U]
LOCATION:Curzon Oxford, Westgate Oxford, Castle St, Oxford OX1 1NZ
END:VEVENT
END:VCALENDAR
