BEGIN:VCALENDAR
VERSION:2.0
BEGIN:VEVENT
URL:https://www.dailyinfo.co.uk/film/22309/the-stranger?event=293450
DTSTART;VALUE=DATE:20260421
DESCRIPTION:The Stranger [15]\n\n\nAdaption of the novel by Camus: in 1930s Algeria, the apathetic Meursault (Benjamin Voisin) shows total indifference to life. French with subt. 8.40pm
SUMMARY;LANGUAGE=en-gb:The Stranger [15]
LOCATION:Curzon Oxford, Westgate Oxford, Castle St, Oxford OX1 1NZ
END:VEVENT
END:VCALENDAR
