BEGIN:VCALENDAR
VERSION:2.0
BEGIN:VEVENT
URL:https://www.dailyinfo.co.uk/film/22363/rbo-live-the-magic-flute?event=293453
DTSTART;VALUE=DATE:20260421
DESCRIPTION:RBO: The Magic Flute [12A]\n\n\nMozart’s fantastical opera glitters in David McVicar’s enchanting production. 6.45pm
SUMMARY;LANGUAGE=en-gb:RBO: The Magic Flute [12A]
LOCATION:Curzon Oxford, Westgate Oxford, Castle St, Oxford OX1 1NZ
END:VEVENT
END:VCALENDAR
