BEGIN:VCALENDAR
VERSION:2.0
BEGIN:VEVENT
URL:https://www.dailyinfo.co.uk/events/289011/helena-clews-from-seascape-to-landscape
DTSTART;VALUE=DATE:20260422
DESCRIPTION:Helena Clews: From Seascape to Landscape\n\n\nHelena’s paintings explore colour, line and texture, drawing inspiration from sea and land. 10am-4pm Free
SUMMARY;LANGUAGE=en-gb:Helena Clews: From Seascape to Landscape
LOCATION:North Wall Arts Centre, South Parade, Oxford OX2 7NN
END:VEVENT
END:VCALENDAR
