BEGIN:VCALENDAR
VERSION:2.0
BEGIN:VEVENT
URL:https://www.dailyinfo.co.uk/film/22272/two-prosecutors?event=293373
DTSTART;VALUE=DATE:20260422
DESCRIPTION:Two Prosecutors [12A]\n\n\n1937, USSR: thousands of letters from detainees falsely accused by Stalin's regime are burned but one reaches the newly appointed local prosecutor, Alexander Kornyev. To investigating the secret police he must also fight chilling bureaucracy. Russian and Ukrainian with subtitles. 2.45pm
SUMMARY;LANGUAGE=en-gb:Two Prosecutors [12A]
LOCATION:Ultimate Picture Palace (UPP), Jeune St, Oxford OX4 1BN
END:VEVENT
END:VCALENDAR
