BEGIN:VCALENDAR
VERSION:2.0
BEGIN:VEVENT
URL:https://www.dailyinfo.co.uk/film/22367/michael?event=293451
DTSTART;VALUE=DATE:20260422
DESCRIPTION:Preview: Michael [12A]\n\n\nBiopic charting the life of the King of Pop. 11.40am, 3.00, 6.00, 9.00pm
SUMMARY;LANGUAGE=en-gb:Preview: Michael [12A]
LOCATION:Curzon Oxford, Westgate Oxford, Castle St, Oxford OX1 1NZ
END:VEVENT
END:VCALENDAR
