BEGIN:VCALENDAR
VERSION:2.0
BEGIN:VEVENT
URL:https://www.dailyinfo.co.uk/events/250005/kanpai-karaoke
DTSTART;VALUE=DATE:20260423
DESCRIPTION:Kanpai Karaoke\n\n\nWeekly karaoke & cocktails night 8.00pm-1.00am
SUMMARY;LANGUAGE=en-gb:Kanpai Karaoke
LOCATION:The Mad Hatter, 43 Iffley Road, Oxford OX4 1EA
END:VEVENT
END:VCALENDAR
