BEGIN:VCALENDAR
VERSION:2.0
BEGIN:VEVENT
URL:https://www.dailyinfo.co.uk/events/285652/positive-psychology
DTSTART;VALUE=DATE:20260423
DESCRIPTION:Positive Psychology\n\n\nPositive Psychology offers a direct approach to help people create strategies towards wellbeing. Changing our interpretation of the world can help us feel happier, healthier, more positive and become more resilient 9.45am - 5pm £130.00
SUMMARY;LANGUAGE=en-gb:Positive Psychology
LOCATION:Oxford University Dept. of Continuing Education - Rewley House, Dept. of Continuing Education, 1 Wellington Square, Oxford OX1 2JA
END:VEVENT
END:VCALENDAR
