BEGIN:VCALENDAR
VERSION:2.0
BEGIN:VEVENT
URL:https://www.dailyinfo.co.uk/events/286211/from-british-subjects-to-us-citizens-how-the-founding-fathers-became-american
DTSTART;VALUE=DATE:20260423
DESCRIPTION:From British Subjects to US Citizens: How the Founding Fathers Became American\n\n\nSeries of five lectures on the principal architects of the American revolution and their personal journey from British subjects to citizens of the United States 11am - 12.30pm from £60
SUMMARY;LANGUAGE=en-gb:From British Subjects to US Citizens: How the Founding Fathers Became American
LOCATION:Oxford University Dept. of Continuing Education - Rewley House, Dept. of Continuing Education, 1 Wellington Square, Oxford OX1 2JA
END:VEVENT
END:VCALENDAR
