BEGIN:VCALENDAR
VERSION:2.0
BEGIN:VEVENT
URL:https://www.dailyinfo.co.uk/events/289136/choral-evensong
DTSTART;VALUE=DATE:20260423
DESCRIPTION:Choral Evensong\n\n\nCome along to a traditional service of Choral Evensong at Oxford's Cathedral. 6:05-7:00pm Free
SUMMARY;LANGUAGE=en-gb:Choral Evensong
LOCATION:Christ Church Cathedral, Christ Church, St Aldate's, Oxford OX1 1DP
END:VEVENT
END:VCALENDAR
