BEGIN:VCALENDAR
VERSION:2.0
BEGIN:VEVENT
URL:https://www.dailyinfo.co.uk/events/290046/open-mic-night
DTSTART;VALUE=DATE:20260423
DESCRIPTION:Open mic night\n\n\nOpen Mic Night, Open to all ages and abilities. House guitar provided (Keys can be provided too). 730pm - 10pm Free
SUMMARY;LANGUAGE=en-gb:Open mic night
LOCATION:The Red Lion (Gloucester St), 14 Gloucester Street, Oxford OX1 2BN
END:VEVENT
END:VCALENDAR
