BEGIN:VCALENDAR
VERSION:2.0
BEGIN:VEVENT
URL:https://www.dailyinfo.co.uk/events/290084/stay-and-play
DTSTART;VALUE=DATE:20260423
DESCRIPTION:Stay and Play\n\n\nA stay, play and learn session for all children under 5 and their parents, carers or grandparents. 10:30 - 12:00 Suggested donation £3.00
SUMMARY;LANGUAGE=en-gb:Stay and Play
LOCATION:Forest Hill Village Hall, Main Street, Forest Hill, Oxfordshire OX33 1EA
END:VEVENT
END:VCALENDAR
