BEGIN:VCALENDAR
VERSION:2.0
BEGIN:VEVENT
URL:https://www.dailyinfo.co.uk/events/291396/memorials-lello
DTSTART;VALUE=DATE:20260423
DESCRIPTION:MEMORIALS + Lello\n\n\nMemorials feat. ex-members of WIRE and Electrelane 7-11pm £9-£13
SUMMARY;LANGUAGE=en-gb:MEMORIALS + Lello
LOCATION:The Bullingdon, 162 Cowley Road, Oxford OX4 1UE
END:VEVENT
END:VCALENDAR
