BEGIN:VCALENDAR
VERSION:2.0
BEGIN:VEVENT
URL:https://www.dailyinfo.co.uk/events/291950/film-analysis-and-theory-an-introduction
DTSTART;VALUE=DATE:20260423
DESCRIPTION:Film Analysis and Theory: An Introduction\n\n\nThis beginners' course is for those with an interest in cinema but with little/no experience of film analysis or critical film theory 2 - 4pm £180
SUMMARY;LANGUAGE=en-gb:Film Analysis and Theory: An Introduction
LOCATION:Oxford University Dept. of Continuing Education - Ewert House, Ewert Place, Banbury Road, Summertown, Oxford OX2 7DD
END:VEVENT
END:VCALENDAR
