BEGIN:VCALENDAR
VERSION:2.0
BEGIN:VEVENT
URL:https://www.dailyinfo.co.uk/events/291951/soul-sisters-2-women-in-the-early-church
DTSTART;VALUE=DATE:20260423
DESCRIPTION:Soul Sisters 2: Women in the Early Church\n\n\nGet to know a fascinating group of influential women who helped to shape the life and beliefs of early Christian communities 4.30 - 6.30pm £180
SUMMARY;LANGUAGE=en-gb:Soul Sisters 2: Women in the Early Church
LOCATION:Oxford University Dept. of Continuing Education - Ewert House, Ewert Place, Banbury Road, Summertown, Oxford OX2 7DD
END:VEVENT
END:VCALENDAR
