BEGIN:VCALENDAR
VERSION:2.0
BEGIN:VEVENT
URL:https://www.dailyinfo.co.uk/events/292656/seeun-kim-the-oxford-global-agenda-project-2026
DTSTART;VALUE=DATE:20260423
DESCRIPTION:Seeun Kim: The Oxford Global Agenda Project 2026\n\n\nExhibition of social art projects that merge jewellery with global societal issues. Open 24/7 Free
SUMMARY;LANGUAGE=en-gb:Seeun Kim: The Oxford Global Agenda Project 2026
LOCATION:Window Galleries, Friars Entry, Oxford OX1 2BZ
END:VEVENT
END:VCALENDAR
