BEGIN:VCALENDAR
VERSION:2.0
BEGIN:VEVENT
URL:https://www.dailyinfo.co.uk/film/22306/the-magic-faraway-tree?event=293374
DTSTART;VALUE=DATE:20260423
DESCRIPTION:The Magic Faraway Tree [U]\n\n\nA modern family relocates to the countryside where the children discover a magical tree with eccentric residents. 3.15pm
SUMMARY;LANGUAGE=en-gb:The Magic Faraway Tree [U]
LOCATION:Ultimate Picture Palace (UPP), Jeune St, Oxford OX4 1BN
END:VEVENT
END:VCALENDAR
