BEGIN:VCALENDAR
VERSION:2.0
BEGIN:VEVENT
URL:https://www.dailyinfo.co.uk/film/22263/dead-mans-wire?event=293375
DTSTART;VALUE=DATE:20260423
DESCRIPTION:Dead Man's Wire [15]\n\n\nOn Feb. 8, 1977, disgruntled real-estate developer Tony Kiritsis takes mortgage broker Richard Hall hostage. 5.45pm
SUMMARY;LANGUAGE=en-gb:Dead Man's Wire [15]
LOCATION:Ultimate Picture Palace (UPP), Jeune St, Oxford OX4 1BN
END:VEVENT
END:VCALENDAR
