BEGIN:VCALENDAR
VERSION:2.0
BEGIN:VEVENT
URL:https://www.dailyinfo.co.uk/film/22333/the-drama?event=293438
DTSTART;VALUE=DATE:20260423
DESCRIPTION:The Drama [15]\n\n\nA happily engaged couple get put to the test when an unexpected revelation sends their wedding week off the rails. 2.40 (subtitled), 6.40, 9.15pm
SUMMARY;LANGUAGE=en-gb:The Drama [15]
LOCATION:Curzon Oxford, Westgate Oxford, Castle St, Oxford OX1 1NZ
END:VEVENT
END:VCALENDAR
