BEGIN:VCALENDAR
VERSION:2.0
BEGIN:VEVENT
URL:https://www.dailyinfo.co.uk/film/20806/bridget-jones-mad-about-the-boy?event=293441
DTSTART;VALUE=DATE:20260423
DESCRIPTION:Bridget Jones's Diary [15]\n\n\nRenée Zellweger stars in this romantic comedy based on Helen Fielding's hugely popular 1996 novel. 25th anniversary screening. 8.40pm
SUMMARY;LANGUAGE=en-gb:Bridget Jones's Diary [15]
LOCATION:Curzon Oxford, Westgate Oxford, Castle St, Oxford OX1 1NZ
END:VEVENT
END:VCALENDAR
