BEGIN:VCALENDAR
VERSION:2.0
BEGIN:VEVENT
URL:https://www.dailyinfo.co.uk/events/293452/film-club-orwell-2-2-5-15
DTSTART;VALUE=DATE:20260423
DESCRIPTION:Film Club: Orwell: 2+2=5 [15]\n\n\nAn investigation into the life, work, and enduring influence of the writer George Orwell, connecting his ideas to the contemporary world. 5.00pm
SUMMARY;LANGUAGE=en-gb:Film Club: Orwell: 2+2=5 [15]
LOCATION:Curzon Oxford, Westgate Oxford, Castle St, Oxford OX1 1NZ
END:VEVENT
END:VCALENDAR
