BEGIN:VCALENDAR
VERSION:2.0
BEGIN:VEVENT
URL:https://www.dailyinfo.co.uk/events/290087/little-learners
DTSTART;VALUE=DATE:20260424
DESCRIPTION:Little Learners\n\n\nA stay, play and learn session for all children under 5 and their parents, carers or grandparents. 10:00 - 11:30 every Friday Suggested donation £3.00
SUMMARY;LANGUAGE=en-gb:Little Learners
LOCATION:The Maple Tree, Littleworth Road, Wheatley OX33 1PH
END:VEVENT
END:VCALENDAR
