BEGIN:VCALENDAR
VERSION:2.0
BEGIN:VEVENT
URL:https://www.dailyinfo.co.uk/events/291154/juke-box-vol-2
DTSTART;VALUE=DATE:20260424
DESCRIPTION:Juke Box Vol 2\n\n\nDancing through the decades: power ballads, pop, rock & dance anthems 11.00pm-3.00am £11
SUMMARY;LANGUAGE=en-gb:Juke Box Vol 2
LOCATION:O2 Academy Oxford, 190 Cowley Road, Oxford OX4 1UE
END:VEVENT
END:VCALENDAR
