BEGIN:VCALENDAR
VERSION:2.0
BEGIN:VEVENT
URL:https://www.dailyinfo.co.uk/events/291155/seb-lowe
DTSTART;VALUE=DATE:20260424
DESCRIPTION:Seb Lowe\n\n\nRising British indie star on UK tour 6.30pm £16.25
SUMMARY;LANGUAGE=en-gb:Seb Lowe
LOCATION:O2 Academy Oxford, 190 Cowley Road, Oxford OX4 1UE
END:VEVENT
END:VCALENDAR
