BEGIN:VCALENDAR
VERSION:2.0
BEGIN:VEVENT
URL:https://www.dailyinfo.co.uk/events/291537/sounds-of-seattle
DTSTART;VALUE=DATE:20260424
DESCRIPTION:Sounds Of Seattle\n\n\nTribute to the biggest bands from Seattle WA 7.00pm £15
SUMMARY;LANGUAGE=en-gb:Sounds Of Seattle
LOCATION:The Bullingdon, 162 Cowley Road, Oxford OX4 1UE
END:VEVENT
END:VCALENDAR
