BEGIN:VCALENDAR
VERSION:2.0
BEGIN:VEVENT
URL:https://www.dailyinfo.co.uk/film/1691/brazil?event=293609
DTSTART;VALUE=DATE:20260424
DESCRIPTION:Brazil [15]\n\n\nGilliam's dystopian classic. 8.00pm
SUMMARY;LANGUAGE=en-gb:Brazil [15]
LOCATION:Phoenix Picturehouse, 57 Walton Street, Oxford OX2 6AE
END:VEVENT
END:VCALENDAR
