BEGIN:VCALENDAR
VERSION:2.0
BEGIN:VEVENT
URL:https://www.dailyinfo.co.uk/events/289128/family-day
DTSTART;VALUE=DATE:20260425
DESCRIPTION:Family Day\n\n\nExploration Zone & woodland Explorer Backpacks - visit for a unique family experience! 10-12, 12.30-2.30, 3-5 (includes woodland 10-5) £8.50 per person (under 3s free)
SUMMARY;LANGUAGE=en-gb:Family Day
LOCATION:Science Oxford Centre, Stansfeld Park, Quarry Road, Headington, Oxford OX3 8SB
END:VEVENT
END:VCALENDAR
