BEGIN:VCALENDAR
VERSION:2.0
BEGIN:VEVENT
URL:https://www.dailyinfo.co.uk/events/289597/police-dog-hogan
DTSTART;VALUE=DATE:20260425
DESCRIPTION:Police Dog Hogan\n\n\nWood HQ presents Police Dog Hogan, who blend country-Americana music with British flair Doors at 6:30 pm £22 inc booking fee
SUMMARY;LANGUAGE=en-gb:Police Dog Hogan
LOCATION:The Snug at Bishop's Court Farm, Bishop’s Court Farm, 91 High Street, Dorchester-on-Thames, Oxfordshire OX10 7HP
END:VEVENT
END:VCALENDAR
