BEGIN:VCALENDAR
VERSION:2.0
BEGIN:VEVENT
URL:https://www.dailyinfo.co.uk/events/290650/shikshapatri-on-display
DTSTART;VALUE=DATE:20260425
DESCRIPTION:Shikshapatri on display\n\n\nComposed in 1826 by Sahajananda Swami (Lord Swaminarayan), a reforming Hindu leader, the Shikshapatri provides moral and spiritual guidance for everyday life in 212 Sanskrit verses 9am - 5pm free
SUMMARY;LANGUAGE=en-gb:Shikshapatri on display
LOCATION:Weston Library, Broad Street, Oxford OX1 3BG
END:VEVENT
END:VCALENDAR
