BEGIN:VCALENDAR
VERSION:2.0
BEGIN:VEVENT
URL:https://www.dailyinfo.co.uk/events/290931/nature-club-pond-dipping-newt-day-at-the-science-oxford-centre-ages-5-9
DTSTART;VALUE=DATE:20260425
DESCRIPTION:Nature Club: Pond Dipping! Newt Day at the Science Oxford Centre (ages 5-9)\n\n\nGo pond-dipping and grass sweeping and discover an amazing aquatic eco-system for National Newt Day! 10am, 12.30pm, 3pm (10am - 5pm outdoor access) £10 (includes child & adult)
SUMMARY;LANGUAGE=en-gb:Nature Club: Pond Dipping! Newt Day at the Science Oxford Centre (ages 5-9)
LOCATION:Science Oxford Centre, Stansfeld Park, Quarry Road, Headington, Oxford OX3 8SB
END:VEVENT
END:VCALENDAR
