BEGIN:VCALENDAR
VERSION:2.0
BEGIN:VEVENT
URL:https://www.dailyinfo.co.uk/events/291156/jalen-ngonda
DTSTART;VALUE=DATE:20260425
DESCRIPTION:Jalen Ngonda\n\n\nSoul singer on UK tour 6.30pm £41.70
SUMMARY;LANGUAGE=en-gb:Jalen Ngonda
LOCATION:O2 Academy Oxford, 190 Cowley Road, Oxford OX4 1UE
END:VEVENT
END:VCALENDAR
