BEGIN:VCALENDAR
VERSION:2.0
BEGIN:VEVENT
URL:https://www.dailyinfo.co.uk/events/293039/contrapunctus-victoria-in-rome-and-madrid
DTSTART;VALUE=DATE:20260425
DESCRIPTION:Contrapunctus: Victoria in Rome and Madrid\n\n\nChoral masterworks from Renaissance Rome and Madrid by Victoria, Palestrina, Rogier, and Lobo 7.30-9pm £25/£5
SUMMARY;LANGUAGE=en-gb:Contrapunctus: Victoria in Rome and Madrid
LOCATION:Queen's College Chapel, High Street, Oxford OX1 4AW
END:VEVENT
END:VCALENDAR
