BEGIN:VCALENDAR
VERSION:2.0
BEGIN:VEVENT
URL:https://www.dailyinfo.co.uk/events/293157/refik-anadol-archive-dreaming
DTSTART;VALUE=DATE:20260425
DESCRIPTION:Refik Anadol: Archive Dreaming\n\n\nThis installation transforms a vast digital archive into a dynamic, dream-like experience, using AI. 10am-4pm Free
SUMMARY;LANGUAGE=en-gb:Refik Anadol: Archive Dreaming
LOCATION:Schwarzman Centre for the Humanities, Radcliffe Observatory Quarter, Woodstock Road, Oxford OX2 6GG
END:VEVENT
END:VCALENDAR
