BEGIN:VCALENDAR
VERSION:2.0
BEGIN:VEVENT
URL:https://www.dailyinfo.co.uk/events/293158/open-house
DTSTART;VALUE=DATE:20260425
DESCRIPTION:Open House\n\n\nThis free-entry Saturday festival brings the building to life, celebrating the humanities. From 10am Free
SUMMARY;LANGUAGE=en-gb:Open House
LOCATION:Schwarzman Centre for the Humanities, Radcliffe Observatory Quarter, Woodstock Road, Oxford OX2 6GG
END:VEVENT
END:VCALENDAR
