BEGIN:VCALENDAR
VERSION:2.0
BEGIN:VEVENT
URL:https://www.dailyinfo.co.uk/events/293433/sapphic-sounds-club-night
DTSTART;VALUE=DATE:20260425
DESCRIPTION:Sapphic Sounds Club Night\n\n\nOxford’s dance party for queer women! Good music. Open dance floor. Zero judgement 10.00pm onwards £3
SUMMARY;LANGUAGE=en-gb:Sapphic Sounds Club Night
LOCATION:Kazbar, 27 Cowley Road, Oxford OX4 1HP
END:VEVENT
END:VCALENDAR
