BEGIN:VCALENDAR
VERSION:2.0
BEGIN:VEVENT
URL:https://www.dailyinfo.co.uk/events/293636/the-urban-sketching-social
DTSTART;VALUE=DATE:20260425
DESCRIPTION:The Urban Sketching social\n\n\nJoin Together We Make for a slow, relaxing morning of Urban Sketching in the heart of Oxford. 10.00am-12noon £13.50
SUMMARY;LANGUAGE=en-gb:The Urban Sketching social
LOCATION:Worcester College, Worcester Street, Oxford OX1 2HB
END:VEVENT
END:VCALENDAR
