BEGIN:VCALENDAR
VERSION:2.0
BEGIN:VEVENT
URL:https://www.dailyinfo.co.uk/events/245053/folk-night
DTSTART;VALUE=DATE:20260426
DESCRIPTION:Folk Night\n\n\nLegendary late night session - a mix of traditional Irish & English folk and other genres. Open session, all welcome. 8.00pm til late Free
SUMMARY;LANGUAGE=en-gb:Folk Night
LOCATION:The Half Moon, 17-18 St Clements, Oxford OX4 1AB
END:VEVENT
END:VCALENDAR
