BEGIN:VCALENDAR
VERSION:2.0
BEGIN:VEVENT
URL:https://www.dailyinfo.co.uk/events/280605/sunday-worship
DTSTART;VALUE=DATE:20260426
DESCRIPTION:Sunday Worship\n\n\nFamily friendly communion with activities for children ages 3-11. Refreshments, accessible venue. 10 to 11am Free
SUMMARY;LANGUAGE=en-gb:Sunday Worship
LOCATION:All Saints' Church (Headington), Lime Walk, Headington, Oxford OX3 7AL
END:VEVENT
END:VCALENDAR
