BEGIN:VCALENDAR
VERSION:2.0
BEGIN:VEVENT
URL:https://www.dailyinfo.co.uk/events/289141/choral-eucharist
DTSTART;VALUE=DATE:20260426
DESCRIPTION:Choral Eucharist\n\n\nYou are warmly invited to worship with us at our Choral Eucharist. Followed by refreshments. 11:05am-12:05pm Free
SUMMARY;LANGUAGE=en-gb:Choral Eucharist
LOCATION:Christ Church Cathedral, Christ Church, St Aldate's, Oxford OX1 1DP
END:VEVENT
END:VCALENDAR
