BEGIN:VCALENDAR
VERSION:2.0
BEGIN:VEVENT
URL:https://www.dailyinfo.co.uk/events/289326/wolvercote-community-market
DTSTART;VALUE=DATE:20260426
DESCRIPTION:Wolvercote Community Market\n\n\nWeekly market with fresh veg, bread and more, monthly refills & repair café. 10am-12pm Free
SUMMARY;LANGUAGE=en-gb:Wolvercote Community Market
LOCATION:The White Hart, Wolvercote, 126 Godstow Rd, Wolvercote, Oxford OX2 8PQ
END:VEVENT
END:VCALENDAR
