BEGIN:VCALENDAR
VERSION:2.0
BEGIN:VEVENT
URL:https://www.dailyinfo.co.uk/events/292869/ballroom-dance-classes-waltz-foxtrot-quickstep-tango
DTSTART;VALUE=DATE:20260426
DESCRIPTION:Ballroom Dance Classes - Waltz, Foxtrot, Quickstep, Tango\n\n\nLearn to dance with Oxford University Dancesport Club, Community Dance Classes Open To The Public. 5pm Beginner's Class - 6pm Intermediates £6 Members £11 Non-Members
SUMMARY;LANGUAGE=en-gb:Ballroom Dance Classes - Waltz, Foxtrot, Quickstep, Tango
LOCATION:Oxford Studios, Kirby House, Behind NW corner of Windmill Road, Headington, Oxford OX3 7BT
END:VEVENT
END:VCALENDAR
