BEGIN:VCALENDAR
VERSION:2.0
BEGIN:VEVENT
URL:https://www.dailyinfo.co.uk/events/293200/choral-evensong
DTSTART;VALUE=DATE:20260426
DESCRIPTION:Choral Evensong\n\n\nChoral Evensong with the choristers of St Barnabas Jericho 4.00pm Free
SUMMARY;LANGUAGE=en-gb:Choral Evensong
LOCATION:St Barnabas Church, 50 Cardigan Street, Jericho, Oxford OX2 6BS
END:VEVENT
END:VCALENDAR
